BEGIN:VCALENDAR
VERSION:2.0
PRODID:-//Off The Charts Games - ECPv6.15.20//NONSGML v1.0//EN
CALSCALE:GREGORIAN
METHOD:PUBLISH
X-WR-CALNAME:Off The Charts Games
X-ORIGINAL-URL:https://offthechartsgames.com
X-WR-CALDESC:Events for Off The Charts Games
REFRESH-INTERVAL;VALUE=DURATION:PT1H
X-Robots-Tag:noindex
X-PUBLISHED-TTL:PT1H
BEGIN:VTIMEZONE
TZID:America/Los_Angeles
BEGIN:DAYLIGHT
TZOFFSETFROM:-0800
TZOFFSETTO:-0700
TZNAME:PDT
DTSTART:20250309T100000
END:DAYLIGHT
BEGIN:STANDARD
TZOFFSETFROM:-0700
TZOFFSETTO:-0800
TZNAME:PST
DTSTART:20251102T090000
END:STANDARD
BEGIN:DAYLIGHT
TZOFFSETFROM:-0800
TZOFFSETTO:-0700
TZNAME:PDT
DTSTART:20260308T100000
END:DAYLIGHT
BEGIN:STANDARD
TZOFFSETFROM:-0700
TZOFFSETTO:-0800
TZNAME:PST
DTSTART:20261101T090000
END:STANDARD
BEGIN:DAYLIGHT
TZOFFSETFROM:-0800
TZOFFSETTO:-0700
TZNAME:PDT
DTSTART:20270314T100000
END:DAYLIGHT
BEGIN:STANDARD
TZOFFSETFROM:-0700
TZOFFSETTO:-0800
TZNAME:PST
DTSTART:20271107T090000
END:STANDARD
END:VTIMEZONE
BEGIN:VEVENT
DTSTART;TZID=America/Los_Angeles:20260422T180000
DTEND;TZID=America/Los_Angeles:20260422T230000
DTSTAMP:20260422T024445
CREATED:20250131T204954Z
LAST-MODIFIED:20260401T203350Z
UID:10893-1776880800-1776898800@offthechartsgames.com
SUMMARY:Board Games Night
DESCRIPTION:Wednesday Night Board Games session 6 pm to 10 pm.  Bring your games.  Come and join in on the fun it’s free.  Kids must be accompanied and supervised by an adult.
URL:https://offthechartsgames.com/event/board-games-night-2/
END:VEVENT
END:VCALENDAR