BEGIN:VCALENDAR
VERSION:2.0
PRODID:-//Off The Charts Games - ECPv6.15.20//NONSGML v1.0//EN
CALSCALE:GREGORIAN
METHOD:PUBLISH
X-ORIGINAL-URL:https://offthechartsgames.com
X-WR-CALDESC:Events for Off The Charts Games
REFRESH-INTERVAL;VALUE=DURATION:PT1H
X-Robots-Tag:noindex
X-PUBLISHED-TTL:PT1H
BEGIN:VTIMEZONE
TZID:America/Los_Angeles
BEGIN:DAYLIGHT
TZOFFSETFROM:-0800
TZOFFSETTO:-0700
TZNAME:PDT
DTSTART:20250309T100000
END:DAYLIGHT
BEGIN:STANDARD
TZOFFSETFROM:-0700
TZOFFSETTO:-0800
TZNAME:PST
DTSTART:20251102T090000
END:STANDARD
BEGIN:DAYLIGHT
TZOFFSETFROM:-0800
TZOFFSETTO:-0700
TZNAME:PDT
DTSTART:20260308T100000
END:DAYLIGHT
BEGIN:STANDARD
TZOFFSETFROM:-0700
TZOFFSETTO:-0800
TZNAME:PST
DTSTART:20261101T090000
END:STANDARD
BEGIN:DAYLIGHT
TZOFFSETFROM:-0800
TZOFFSETTO:-0700
TZNAME:PDT
DTSTART:20270314T100000
END:DAYLIGHT
BEGIN:STANDARD
TZOFFSETFROM:-0700
TZOFFSETTO:-0800
TZNAME:PST
DTSTART:20271107T090000
END:STANDARD
END:VTIMEZONE
BEGIN:VEVENT
DTSTART;TZID=America/Los_Angeles:20260326T130000
DTEND;TZID=America/Los_Angeles:20260326T170000
DTSTAMP:20260423T043324
CREATED:20260317T204536Z
LAST-MODIFIED:20260317T204536Z
UID:11075-1774530000-1774544400@offthechartsgames.com
SUMMARY:D&D 1 shot campaign
DESCRIPTION:Special one shot just in time for spring break. This adventure will be from 1-5pm. Depending on events it could run over on time. This is for players with experience. if you have not played before please check out our learn to play for D&D on Monday the 23rd. Open to all ages as long as they have experience with playing.
URL:https://offthechartsgames.com/event/dd-1-shot-campaign/
END:VEVENT
BEGIN:VEVENT
DTSTART;TZID=America/Los_Angeles:20260328T170000
DTEND;TZID=America/Los_Angeles:20260328T190000
DTSTAMP:20260423T043324
CREATED:20250820T181359Z
LAST-MODIFIED:20260304T020118Z
UID:10983-1774717200-1774724400@offthechartsgames.com
SUMMARY:Learn to Play Summer Camp
DESCRIPTION:Summer Camp differs each playing as the game includes seven different merit badge decks along with the base deck: adventure\, arts & crafts\, cooking\, friendship\, games\, outdoors\, and water sports. Each game uses three merit badge decks that can be mixed and matched for unique gameplay scenarios. \nTo win\, players must earn the most camp experience points\, points that are gained by claiming merit badges\, advancing your pawns along the merit paths\, and buying cards. Devise your strategy\, build the best card combinations to outplay your opponents\, and rule the summer as the ultimate camper!
URL:https://offthechartsgames.com/event/learn-to-play-azul-2/
END:VEVENT
BEGIN:VEVENT
DTSTART;TZID=America/Los_Angeles:20260331T170000
DTEND;TZID=America/Los_Angeles:20260331T190000
DTSTAMP:20260423T043324
CREATED:20250820T181301Z
LAST-MODIFIED:20260304T020215Z
UID:10981-1774976400-1774983600@offthechartsgames.com
SUMMARY:Learn to Play - Tacta
DESCRIPTION:It’s all connected! In this sneakily strategic card game\, players flip\, twist\, and turn their cards to align and cover their opponents’ shapes with matching squares\, triangles\, and rectangles. With an ever-growing board\, up to 8 colors light up game night with TACTA. Analyze\, strategize\, and optimize because in TACTA\, every card counts.
URL:https://offthechartsgames.com/event/learn-to-play-azul/
END:VEVENT
BEGIN:VEVENT
DTSTART;TZID=America/Los_Angeles:20260403T180000
DTEND;TZID=America/Los_Angeles:20260403T230000
DTSTAMP:20260423T043324
CREATED:20250818T211733Z
LAST-MODIFIED:20260304T020623Z
UID:10977-1775239200-1775257200@offthechartsgames.com
SUMMARY:Game Night
DESCRIPTION:Friday Night Board Games session 6 pm to 11 pm.  Bring your games.  Come and join in on the fun it’s free.  Kids must be accompanied and supervised by an adult.
URL:https://offthechartsgames.com/event/puzzle-swap-bring-one-take-one/
END:VEVENT
BEGIN:VEVENT
DTSTART;TZID=America/Los_Angeles:20260404T110000
DTEND;TZID=America/Los_Angeles:20260404T190000
DTSTAMP:20260423T043324
CREATED:20250704T211502Z
LAST-MODIFIED:20260401T203452Z
UID:10972-1775300400-1775329200@offthechartsgames.com
SUMMARY:Puzzle Swap
DESCRIPTION:Un-hosted Puzzle Swap. Bring 1-3 and Exchange for 1-3.
URL:https://offthechartsgames.com/event/learn-to-play-arkham-horror/
END:VEVENT
BEGIN:VEVENT
DTSTART;TZID=America/Los_Angeles:20260404T170000
DTEND;TZID=America/Los_Angeles:20260404T190000
DTSTAMP:20260423T043324
CREATED:20250704T211529Z
LAST-MODIFIED:20260304T020258Z
UID:10974-1775322000-1775329200@offthechartsgames.com
SUMMARY:Learn to Play: Tacta
DESCRIPTION:It’s all connected! In this sneakily strategic card game\, players flip\, twist\, and turn their cards to align and cover their opponents’ shapes with matching squares\, triangles\, and rectangles. With an ever-growing board\, up to 8 colors light up game night with TACTA. Analyze\, strategize\, and optimize because in TACTA\, every card counts.
URL:https://offthechartsgames.com/event/learn-to-play-arkham-horror-2/
END:VEVENT
BEGIN:VEVENT
DTSTART;TZID=America/Los_Angeles:20260408T180000
DTEND;TZID=America/Los_Angeles:20260408T220000
DTSTAMP:20260423T043324
CREATED:20260210T211051Z
LAST-MODIFIED:20260401T203137Z
UID:11054-1775671200-1775685600@offthechartsgames.com
SUMMARY:Wednesday Open Play
DESCRIPTION:Please join us for open game night from 6-10PM
URL:https://offthechartsgames.com/event/wednesday-open-play/
END:VEVENT
BEGIN:VEVENT
DTSTART;TZID=America/Los_Angeles:20260410T180000
DTEND;TZID=America/Los_Angeles:20260410T230000
DTSTAMP:20260423T043324
CREATED:20250704T210908Z
LAST-MODIFIED:20260401T203206Z
UID:10970-1775844000-1775862000@offthechartsgames.com
SUMMARY:Come Play With Us
DESCRIPTION:Friday Night Board Games session 6 pm to 11 pm.  Bring your games.  Come and join in on the fun it’s free.
URL:https://offthechartsgames.com/event/learn-to-play-elder-sign-2/
END:VEVENT
BEGIN:VEVENT
DTSTART;TZID=America/Los_Angeles:20260411T170000
DTEND;TZID=America/Los_Angeles:20260411T190000
DTSTAMP:20260423T043324
CREATED:20251014T213036Z
LAST-MODIFIED:20260401T203847Z
UID:11013-1775926800-1775934000@offthechartsgames.com
SUMMARY:Learn to Play Dice Forge
DESCRIPTION:Dice Forge is a development game featuring innovative mechanics based on dice with removable faces. In this dice crafting game\, players build their own dice. Roll your dice\, manage your resources\, complete ordeals before your opponents and explore multiple winning strategies.
URL:https://offthechartsgames.com/event/learn-to-play-7-wonders-2/
END:VEVENT
BEGIN:VEVENT
DTSTART;TZID=America/Los_Angeles:20260415T180000
DTEND;TZID=America/Los_Angeles:20260415T220000
DTSTAMP:20260423T043324
CREATED:20260210T211208Z
LAST-MODIFIED:20260401T203250Z
UID:11056-1776276000-1776290400@offthechartsgames.com
SUMMARY:Wednesday Open Play
DESCRIPTION:Please join us for open play night from 6-10PM
URL:https://offthechartsgames.com/event/wednesday-open-play-2/
END:VEVENT
BEGIN:VEVENT
DTSTART;TZID=America/Los_Angeles:20260417T180000
DTEND;TZID=America/Los_Angeles:20260417T230000
DTSTAMP:20260423T043324
CREATED:20250124T220100Z
LAST-MODIFIED:20260401T203228Z
UID:10890-1776448800-1776466800@offthechartsgames.com
SUMMARY:Board Games Night
DESCRIPTION:Friday Night Board Games session 6 pm to 11 pm.  Bring your games to play or join in with others.  Come and join in on the fun it’s free.  Kids must be accompanied and supervised by an adult.
URL:https://offthechartsgames.com/event/board-games-night/
END:VEVENT
BEGIN:VEVENT
DTSTART;TZID=America/Los_Angeles:20260418T170000
DTEND;TZID=America/Los_Angeles:20260418T190000
DTSTAMP:20260423T043324
CREATED:20251014T212943Z
LAST-MODIFIED:20260401T204023Z
UID:11011-1776531600-1776538800@offthechartsgames.com
SUMMARY:Learn to Play-Parks
DESCRIPTION:In PARKS\, players will take on the role of two hikers as they trek through different trails across four seasons of the year. While on the trail\, these hikers will take actions and collect memories of the places your hikers visit. These memories are represented by various resource tokens like mountains and forests. Collecting these memories in sets will allow players to trade them in to visit a National Park at the end of each hike.
URL:https://offthechartsgames.com/event/learn-to-play-7-wonders/
END:VEVENT
BEGIN:VEVENT
DTSTART;TZID=America/Los_Angeles:20260422T180000
DTEND;TZID=America/Los_Angeles:20260422T230000
DTSTAMP:20260423T043324
CREATED:20250131T204954Z
LAST-MODIFIED:20260401T203350Z
UID:10893-1776880800-1776898800@offthechartsgames.com
SUMMARY:Board Games Night
DESCRIPTION:Wednesday Night Board Games session 6 pm to 10 pm.  Bring your games.  Come and join in on the fun it’s free.  Kids must be accompanied and supervised by an adult.
URL:https://offthechartsgames.com/event/board-games-night-2/
END:VEVENT
BEGIN:VEVENT
DTSTART;TZID=America/Los_Angeles:20260424T180000
DTEND;TZID=America/Los_Angeles:20260424T230000
DTSTAMP:20260423T043324
CREATED:20251014T212655Z
LAST-MODIFIED:20260401T203329Z
UID:11008-1777053600-1777071600@offthechartsgames.com
SUMMARY:Come Play with us
DESCRIPTION:Friday Night Board Games session 6 pm to 11 pm.  Bring your games.  Come and join in on the fun it’s free.  Kids must be accompanied and supervised by an adult.
URL:https://offthechartsgames.com/event/ttrpg-meet-and-greet/
END:VEVENT
BEGIN:VEVENT
DTSTART;TZID=America/Los_Angeles:20260425T170000
DTEND;TZID=America/Los_Angeles:20260425T190000
DTSTAMP:20260423T043324
CREATED:20250821T175801Z
LAST-MODIFIED:20260401T204134Z
UID:10988-1777136400-1777143600@offthechartsgames.com
SUMMARY:Learn to Play The White Castle
DESCRIPTION:In The White Castle\, players will control one of these clans in order to score more victory points than the rest. To do so\, they must amass influence in the court\, manage resources boldly\, and place their workers in the right place at the right time. The authors are Sheila Santos and Israel Cendrero\, the duo known as Llama Dice who also designed the successful The Red Cathedral with Devir. In this case\, we leave the Moscow of Ivan the Terrible behind to explore the most imposing fortress in modern Japan\, Himeji Castle\, where the banner of the Sakai clan flies under the orders of Daimyo Sakai Tadakiyo.
URL:https://offthechartsgames.com/event/learn-to-play-root-2/
END:VEVENT
BEGIN:VEVENT
DTSTART;TZID=America/Los_Angeles:20260429T130000
DTEND;TZID=America/Los_Angeles:20260429T170000
DTSTAMP:20260423T043324
CREATED:20260317T203300Z
LAST-MODIFIED:20260401T203647Z
UID:11072-1777467600-1777482000@offthechartsgames.com
SUMMARY:Open Game Night
DESCRIPTION:Open tables from 6-10pm. come play with new friends or bring your own.
URL:https://offthechartsgames.com/event/dd-learn-to-play/
END:VEVENT
BEGIN:VEVENT
DTSTART;TZID=America/Los_Angeles:20260501T180000
DTEND;TZID=America/Los_Angeles:20260501T230000
DTSTAMP:20260423T043324
CREATED:20250704T205806Z
LAST-MODIFIED:20260401T203420Z
UID:10962-1777658400-1777676400@offthechartsgames.com
SUMMARY:Board game Night
DESCRIPTION:Come play with us from 6-11pm. bring you own game or play one of our Demo games. lots of table space and fun to be had every Friday.
URL:https://offthechartsgames.com/event/learn-to-play-horrified-2/
END:VEVENT
END:VCALENDAR