BEGIN:VCALENDAR
VERSION:2.0
PRODID:-//Off The Charts Games - ECPv6.15.20//NONSGML v1.0//EN
CALSCALE:GREGORIAN
METHOD:PUBLISH
X-WR-CALNAME:Off The Charts Games
X-ORIGINAL-URL:https://offthechartsgames.com
X-WR-CALDESC:Events for Off The Charts Games
REFRESH-INTERVAL;VALUE=DURATION:PT1H
X-Robots-Tag:noindex
X-PUBLISHED-TTL:PT1H
BEGIN:VTIMEZONE
TZID:America/Los_Angeles
BEGIN:DAYLIGHT
TZOFFSETFROM:-0800
TZOFFSETTO:-0700
TZNAME:PDT
DTSTART:20230312T100000
END:DAYLIGHT
BEGIN:STANDARD
TZOFFSETFROM:-0700
TZOFFSETTO:-0800
TZNAME:PST
DTSTART:20231105T090000
END:STANDARD
BEGIN:DAYLIGHT
TZOFFSETFROM:-0800
TZOFFSETTO:-0700
TZNAME:PDT
DTSTART:20240310T100000
END:DAYLIGHT
BEGIN:STANDARD
TZOFFSETFROM:-0700
TZOFFSETTO:-0800
TZNAME:PST
DTSTART:20241103T090000
END:STANDARD
BEGIN:DAYLIGHT
TZOFFSETFROM:-0800
TZOFFSETTO:-0700
TZNAME:PDT
DTSTART:20250309T100000
END:DAYLIGHT
BEGIN:STANDARD
TZOFFSETFROM:-0700
TZOFFSETTO:-0800
TZNAME:PST
DTSTART:20251102T090000
END:STANDARD
END:VTIMEZONE
BEGIN:VTIMEZONE
TZID:America/Denver
BEGIN:DAYLIGHT
TZOFFSETFROM:-0700
TZOFFSETTO:-0600
TZNAME:MDT
DTSTART:20220313T090000
END:DAYLIGHT
BEGIN:STANDARD
TZOFFSETFROM:-0600
TZOFFSETTO:-0700
TZNAME:MST
DTSTART:20221106T080000
END:STANDARD
BEGIN:DAYLIGHT
TZOFFSETFROM:-0700
TZOFFSETTO:-0600
TZNAME:MDT
DTSTART:20230312T090000
END:DAYLIGHT
BEGIN:STANDARD
TZOFFSETFROM:-0600
TZOFFSETTO:-0700
TZNAME:MST
DTSTART:20231105T080000
END:STANDARD
BEGIN:DAYLIGHT
TZOFFSETFROM:-0700
TZOFFSETTO:-0600
TZNAME:MDT
DTSTART:20240310T090000
END:DAYLIGHT
BEGIN:STANDARD
TZOFFSETFROM:-0600
TZOFFSETTO:-0700
TZNAME:MST
DTSTART:20241103T080000
END:STANDARD
END:VTIMEZONE
BEGIN:VEVENT
DTSTART;TZID=America/Los_Angeles:20241115T180000
DTEND;TZID=America/Los_Angeles:20241115T230000
DTSTAMP:20260423T093934
CREATED:20241004T221428Z
LAST-MODIFIED:20241004T221428Z
UID:10849-1731693600-1731711600@offthechartsgames.com
SUMMARY:Friday Board Games
DESCRIPTION:Friday Board Game Night 6 pm to 11 pm. \nOur Game Library has a wide variety available to play while you are here.  Additionally\, you can bring your own games to play.  Come and join in on the fun it’s free.  Kids must be accompanied and supervised by an adult.
URL:https://offthechartsgames.com/event/friday-board-games-3/
END:VEVENT
BEGIN:VEVENT
DTSTART;TZID=America/Los_Angeles:20241108T180000
DTEND;TZID=America/Los_Angeles:20241108T230000
DTSTAMP:20260423T093934
CREATED:20241004T221335Z
LAST-MODIFIED:20241004T221335Z
UID:10847-1731088800-1731106800@offthechartsgames.com
SUMMARY:Friday Board Games
DESCRIPTION:Friday Board Game Night 6 pm to 11 pm. \nOur Game Library has a wide variety available to play while you are here.  Additionally\, you can bring your own games to play.  Come and join in on the fun it’s free.  Kids must be accompanied and supervised by an adult.
URL:https://offthechartsgames.com/event/friday-board-games-2/
END:VEVENT
BEGIN:VEVENT
DTSTART;TZID=America/Los_Angeles:20241101T180000
DTEND;TZID=America/Los_Angeles:20241101T230000
DTSTAMP:20260423T093934
CREATED:20241004T221234Z
LAST-MODIFIED:20241004T221234Z
UID:10844-1730484000-1730502000@offthechartsgames.com
SUMMARY:Friday Board Games
DESCRIPTION:Friday Board Game Night 6 pm to 11 pm. \nOur Game Library has a wide variety available to play while you are here.  Additionally\, you can bring your own games to play.  Come and join in on the fun it’s free.  Kids must be accompanied and supervised by an adult.
URL:https://offthechartsgames.com/event/friday-board-games/
END:VEVENT
BEGIN:VEVENT
DTSTART;TZID=America/Los_Angeles:20241025T180000
DTEND;TZID=America/Los_Angeles:20241025T230000
DTSTAMP:20260423T093934
CREATED:20241004T221110Z
LAST-MODIFIED:20241004T221110Z
UID:10842-1729879200-1729897200@offthechartsgames.com
SUMMARY:Friday Board Game Night
DESCRIPTION:Friday Board Game Night 6 pm to 11 pm. \nOur Game Library has a wide variety available to play while you are here.  Additionally\, you can bring your own games to play.  Come and join in on the fun it’s free.  Kids must be accompanied and supervised by an adult.
URL:https://offthechartsgames.com/event/friday-board-game-night-4/
END:VEVENT
BEGIN:VEVENT
DTSTART;TZID=America/Los_Angeles:20241018T180000
DTEND;TZID=America/Los_Angeles:20241018T230000
DTSTAMP:20260423T093934
CREATED:20241004T221020Z
LAST-MODIFIED:20241004T221020Z
UID:10840-1729274400-1729292400@offthechartsgames.com
SUMMARY:Friday Board Game Night
DESCRIPTION:Friday Board Game Night 6 pm to 11 pm. \nOur Game Library has a wide variety available to play while you are here.  Additionally\, you can bring your own games to play.  Come and join in on the fun it’s free.  Kids must be accompanied and supervised by an adult.
URL:https://offthechartsgames.com/event/friday-board-game-night-3/
END:VEVENT
BEGIN:VEVENT
DTSTART;TZID=America/Los_Angeles:20241011T180000
DTEND;TZID=America/Los_Angeles:20241011T230000
DTSTAMP:20260423T093934
CREATED:20241004T220929Z
LAST-MODIFIED:20241004T220929Z
UID:10838-1728669600-1728687600@offthechartsgames.com
SUMMARY:Friday Board Game Night
DESCRIPTION:Friday Board Game Night 6 pm to 11 pm. \nOur Game Library has a wide variety available to play while you are here.  Additionally\, you can bring your own games to play.  Come and join in on the fun it’s free.  Kids must be accompanied and supervised by an adult.
URL:https://offthechartsgames.com/event/friday-board-game-night-2/
END:VEVENT
BEGIN:VEVENT
DTSTART;TZID=America/Los_Angeles:20241004T180000
DTEND;TZID=America/Los_Angeles:20241004T230000
DTSTAMP:20260423T093934
CREATED:20241004T220536Z
LAST-MODIFIED:20241004T220536Z
UID:10836-1728064800-1728082800@offthechartsgames.com
SUMMARY:Friday Board Game Night
DESCRIPTION:Friday Board Game Night 6 pm to 11 pm. \nOur Game Library has a wide variety available to play while you are here.  Additionally\, you can bring your own games to play.  Come and join in on the fun it’s free.  Kids must be accompanied and supervised by an adult.
URL:https://offthechartsgames.com/event/friday-board-game-night/
END:VEVENT
BEGIN:VEVENT
DTSTART;TZID=America/Los_Angeles:20240830T180000
DTEND;TZID=America/Los_Angeles:20240830T230000
DTSTAMP:20260423T093934
CREATED:20240714T223734Z
LAST-MODIFIED:20240714T223734Z
UID:10741-1725040800-1725058800@offthechartsgames.com
SUMMARY:Friday Game Night
DESCRIPTION:Friday Game Night 6 pm to 11 pm. \nOur Game Library has a wide variety available to play while you are here.  You can also bring in your own games to play.  Come and join in on the fun it’s free.  Kids must be accompanied and supervised by an adult.
URL:https://offthechartsgames.com/event/friday-game-night-26/
END:VEVENT
BEGIN:VEVENT
DTSTART;TZID=America/Los_Angeles:20240823T180000
DTEND;TZID=America/Los_Angeles:20240823T230000
DTSTAMP:20260423T093934
CREATED:20240714T223702Z
LAST-MODIFIED:20240714T223702Z
UID:10739-1724436000-1724454000@offthechartsgames.com
SUMMARY:Friday Game Night
DESCRIPTION:Friday Game Night 6 pm to 11 pm. \nOur Game Library has a wide variety available to play while you are here.  You can also bring in your own games to play.  Come and join in on the fun it’s free.  Kids must be accompanied and supervised by an adult.
URL:https://offthechartsgames.com/event/friday-game-night-25/
END:VEVENT
BEGIN:VEVENT
DTSTART;TZID=America/Los_Angeles:20240816T180000
DTEND;TZID=America/Los_Angeles:20240816T230000
DTSTAMP:20260423T093934
CREATED:20240714T223554Z
LAST-MODIFIED:20240714T223554Z
UID:10735-1723831200-1723849200@offthechartsgames.com
SUMMARY:Friday Game Night
DESCRIPTION:Friday Game Night 6 pm to 11 pm. \nOur Game Library has a wide variety available to play while you are here.  You can also bring in your own games to play.  Come and join in on the fun it’s free.  Kids must be accompanied and supervised by an adult.
URL:https://offthechartsgames.com/event/friday-game-night-23/
END:VEVENT
BEGIN:VEVENT
DTSTART;TZID=America/Los_Angeles:20240809T180000
DTEND;TZID=America/Los_Angeles:20240809T230000
DTSTAMP:20260423T093934
CREATED:20240714T223523Z
LAST-MODIFIED:20240714T223523Z
UID:10733-1723226400-1723244400@offthechartsgames.com
SUMMARY:Friday Game Night
DESCRIPTION:Friday Game Night 6 pm to 11 pm. \nOur Game Library has a wide variety available to play while you are here.  You can also bring in your own games to play.  Come and join in on the fun it’s free.  Kids must be accompanied and supervised by an adult.
URL:https://offthechartsgames.com/event/friday-game-night-22/
END:VEVENT
BEGIN:VEVENT
DTSTART;TZID=America/Los_Angeles:20240802T180000
DTEND;TZID=America/Los_Angeles:20240802T230000
DTSTAMP:20260423T093934
CREATED:20240714T223446Z
LAST-MODIFIED:20240714T223446Z
UID:10731-1722621600-1722639600@offthechartsgames.com
SUMMARY:Friday Game Night
DESCRIPTION:Friday Game Night 6 pm to 11 pm. \nOur Game Library has a wide variety available to play while you are here.  You can also bring in your own games to play.  Come and join in on the fun it’s free.  Kids must be accompanied and supervised by an adult.
URL:https://offthechartsgames.com/event/friday-game-night-21/
END:VEVENT
BEGIN:VEVENT
DTSTART;TZID=America/Los_Angeles:20240726T180000
DTEND;TZID=America/Los_Angeles:20240726T230000
DTSTAMP:20260423T093934
CREATED:20240714T223405Z
LAST-MODIFIED:20240714T223825Z
UID:10729-1722016800-1722034800@offthechartsgames.com
SUMMARY:Friday Game Night
DESCRIPTION:Friday Game Night 6 pm to 11 pm. \nOur Game Library has a wide variety available to play while you are here.  You can also bring in your own games to play.  Come and join in on the fun it’s free.  Kids must be accompanied and supervised by an adult.
URL:https://offthechartsgames.com/event/friday-game-night-20/
END:VEVENT
BEGIN:VEVENT
DTSTART;TZID=America/Los_Angeles:20240719T180000
DTEND;TZID=America/Los_Angeles:20240719T230000
DTSTAMP:20260423T093934
CREATED:20240714T223257Z
LAST-MODIFIED:20240714T223257Z
UID:10727-1721412000-1721430000@offthechartsgames.com
SUMMARY:Friday Game Night
DESCRIPTION:Friday Game Night 6 pm to 11 pm. \nOur Game Library has a wide variety available to play while you are here.  You can also bring in your own games to play.  Come and join in on the fun it’s free.  Kids must be accompanied and supervised by an adult.
URL:https://offthechartsgames.com/event/friday-game-night-19/
END:VEVENT
BEGIN:VEVENT
DTSTART;TZID=America/Denver:20230929T180000
DTEND;TZID=America/Denver:20230929T230000
DTSTAMP:20260423T093934
CREATED:20230818T012426Z
LAST-MODIFIED:20230818T012426Z
UID:10416-1696010400-1696028400@offthechartsgames.com
SUMMARY:Friday Game Night
DESCRIPTION:Friday Game Night 6 pm until 11 pm. \nCome and join in on the fun.  Bring your own games or select from our games library.
URL:https://offthechartsgames.com/event/friday-game-night-18/
END:VEVENT
BEGIN:VEVENT
DTSTART;TZID=America/Denver:20230922T180000
DTEND;TZID=America/Denver:20230922T230000
DTSTAMP:20260423T093934
CREATED:20230818T012334Z
LAST-MODIFIED:20230818T012334Z
UID:10414-1695405600-1695423600@offthechartsgames.com
SUMMARY:Friday Game Night
DESCRIPTION:Friday Game Night 6 pm until 11 pm. \nCome and join in on the fun.  Bring your own games or select from our games library.
URL:https://offthechartsgames.com/event/friday-game-night-17/
END:VEVENT
BEGIN:VEVENT
DTSTART;TZID=America/Denver:20230915T180000
DTEND;TZID=America/Denver:20230915T230000
DTSTAMP:20260423T093934
CREATED:20230818T012249Z
LAST-MODIFIED:20230818T012249Z
UID:10412-1694800800-1694818800@offthechartsgames.com
SUMMARY:Friday Game Night
DESCRIPTION:Friday Game Night 6 pm until 11 pm. \nCome and join in on the fun.  Bring your own games or select from our games library.
URL:https://offthechartsgames.com/event/friday-game-night-16/
END:VEVENT
BEGIN:VEVENT
DTSTART;TZID=America/Denver:20230908T180000
DTEND;TZID=America/Denver:20230908T230000
DTSTAMP:20260423T093934
CREATED:20230818T012153Z
LAST-MODIFIED:20230818T012153Z
UID:10410-1694196000-1694214000@offthechartsgames.com
SUMMARY:Friday Game Night
DESCRIPTION:Friday Game Night 6 pm until 11 pm. \nCome and join in on the fun.  Bring your own games or select from our games library.
URL:https://offthechartsgames.com/event/friday-game-night-15/
END:VEVENT
BEGIN:VEVENT
DTSTART;TZID=America/Denver:20230901T180000
DTEND;TZID=America/Denver:20230901T230000
DTSTAMP:20260423T093934
CREATED:20230818T011840Z
LAST-MODIFIED:20230818T011840Z
UID:10408-1693591200-1693609200@offthechartsgames.com
SUMMARY:Friday Game Night
DESCRIPTION:Friday Night Game Night 6 pm until 11 pm. \nCome and join in on the fun.  Bring your own games or select from our game’s library.
URL:https://offthechartsgames.com/event/friday-game-night-14/
END:VEVENT
BEGIN:VEVENT
DTSTART;TZID=America/Denver:20230825T180000
DTEND;TZID=America/Denver:20230825T230000
DTSTAMP:20260423T093934
CREATED:20230618T225618Z
LAST-MODIFIED:20230618T225618Z
UID:10374-1692986400-1693004400@offthechartsgames.com
SUMMARY:Friday Game Night
DESCRIPTION:Friday Night Game Night 6 pm until 11 pm.   Of course\, our tables are also open daily during store hours.  Select from our games library or bring your own games. \nCome play\, it’s free and you’re sure to have a good time.
URL:https://offthechartsgames.com/event/friday-game-night-13/
CATEGORIES:Game Night
ATTACH;FMTTYPE=image/jpeg:https://offthechartsgames.com/wp-content/uploads/2023/06/Demo-Games_12.16.2017_b.jpg
END:VEVENT
BEGIN:VEVENT
DTSTART;TZID=America/Denver:20230818T180000
DTEND;TZID=America/Denver:20230818T230000
DTSTAMP:20260423T093934
CREATED:20230618T225508Z
LAST-MODIFIED:20230618T225508Z
UID:10372-1692381600-1692399600@offthechartsgames.com
SUMMARY:Friday Game Night
DESCRIPTION:Friday Night Game Night 6 pm until 11 pm.   Of course\, our tables are also open daily during store hours.  Select from our games library or bring your own games. \nCome play\, it’s free and you’re sure to have a good time.
URL:https://offthechartsgames.com/event/friday-game-night-12/
CATEGORIES:Game Night
ATTACH;FMTTYPE=image/jpeg:https://offthechartsgames.com/wp-content/uploads/2023/06/Demo-Games_12.16.2017_b.jpg
END:VEVENT
BEGIN:VEVENT
DTSTART;TZID=America/Denver:20230811T180000
DTEND;TZID=America/Denver:20230811T230000
DTSTAMP:20260423T093934
CREATED:20230618T224440Z
LAST-MODIFIED:20230618T224440Z
UID:10366-1691776800-1691794800@offthechartsgames.com
SUMMARY:Friday Game Night
DESCRIPTION:Friday Night Game Night  6 pm until 11 pm.   Of course\, our tables are also open daily during store hours.  Select from our games library or bring your own games. \nCome play\, it’s free and you’re sure to have a good time.
URL:https://offthechartsgames.com/event/friday-game-night-11/
CATEGORIES:Game Night
ATTACH;FMTTYPE=image/jpeg:https://offthechartsgames.com/wp-content/uploads/2023/06/Demo-Games_12.16.2017_b.jpg
END:VEVENT
BEGIN:VEVENT
DTSTART;TZID=America/Denver:20230804T180000
DTEND;TZID=America/Denver:20230804T230000
DTSTAMP:20260423T093934
CREATED:20230618T225403Z
LAST-MODIFIED:20230618T225403Z
UID:10370-1691172000-1691190000@offthechartsgames.com
SUMMARY:Friday Game Night
DESCRIPTION:Friday Night Game Night 6 pm until 11 pm.   Of course\, our tables are also open daily during store hours.  Select from our games library or bring your own games. \nCome play\, it’s free and you’re sure to have a good time.
URL:https://offthechartsgames.com/event/friday-game-night-9/
CATEGORIES:Game Night
ATTACH;FMTTYPE=image/jpeg:https://offthechartsgames.com/wp-content/uploads/2023/06/Demo-Games_12.16.2017_b.jpg
END:VEVENT
BEGIN:VEVENT
DTSTART;TZID=America/Denver:20230728T180000
DTEND;TZID=America/Denver:20230728T230000
DTSTAMP:20260423T093934
CREATED:20230618T224000Z
LAST-MODIFIED:20230618T224000Z
UID:10360-1690567200-1690585200@offthechartsgames.com
SUMMARY:Friday Game Night
DESCRIPTION:Friday Night Game Night:  6 pm until 11 pm.   Of course\, our tables are also open daily during store hours.  Select from our games library or bring your own games. \nCome play\, it’s free and you’re sure to have a good time.
URL:https://offthechartsgames.com/event/friday-game-night-8/
CATEGORIES:Game Night
ATTACH;FMTTYPE=image/jpeg:https://offthechartsgames.com/wp-content/uploads/2023/06/Demo-Games_12.16.2017_b.jpg
END:VEVENT
BEGIN:VEVENT
DTSTART;TZID=America/Denver:20230721T180000
DTEND;TZID=America/Denver:20230721T230000
DTSTAMP:20260423T093934
CREATED:20230618T223830Z
LAST-MODIFIED:20230618T223830Z
UID:10358-1689962400-1689980400@offthechartsgames.com
SUMMARY:Friday Game Night
DESCRIPTION:Friday Night Game Night:  6 pm until 11 pm.   Of course\, our tables are also open daily during store hours.  Select from our games library or bring your own games. \nCome play\, it’s free and you’re sure to have a good time.
URL:https://offthechartsgames.com/event/friday-game-night-7/
CATEGORIES:Game Night
ATTACH;FMTTYPE=image/jpeg:https://offthechartsgames.com/wp-content/uploads/2023/06/Demo-Games_12.16.2017_b.jpg
END:VEVENT
BEGIN:VEVENT
DTSTART;TZID=America/Denver:20230714T180000
DTEND;TZID=America/Denver:20230714T230000
DTSTAMP:20260423T093934
CREATED:20230618T223501Z
LAST-MODIFIED:20230618T223501Z
UID:10354-1689357600-1689375600@offthechartsgames.com
SUMMARY:Friday Game Night
DESCRIPTION:Friday Night Game Night 6 pm until 11 pm.   Of course\, our tables are also open daily during store hours.  Select from our games library or bring your own games. \nCome play\, it’s free and you’re sure to have a good time.
URL:https://offthechartsgames.com/event/friday-game-night-5/
CATEGORIES:Game Night
ATTACH;FMTTYPE=image/jpeg:https://offthechartsgames.com/wp-content/uploads/2023/06/Demo-Games_12.16.2017_b.jpg
END:VEVENT
BEGIN:VEVENT
DTSTART;TZID=America/Denver:20230707T180000
DTEND;TZID=America/Denver:20230707T230000
DTSTAMP:20260423T093934
CREATED:20230618T222745Z
LAST-MODIFIED:20230618T222745Z
UID:10348-1688752800-1688770800@offthechartsgames.com
SUMMARY:Friday Game Night
DESCRIPTION:Friday Night Game Night 6 pm until 11 pm.   Of course\, our tables are also open daily during store hours.  Select from our games library or bring your own games. \nCome play\, it’s free and you’re sure to have a good time.
URL:https://offthechartsgames.com/event/friday-game-night-3/
CATEGORIES:Game Night
ATTACH;FMTTYPE=image/jpeg:https://offthechartsgames.com/wp-content/uploads/2023/06/Demo-Games_12.16.2017_b.jpg
END:VEVENT
BEGIN:VEVENT
DTSTART;TZID=America/Denver:20230630T180000
DTEND;TZID=America/Denver:20230630T230000
DTSTAMP:20260423T093934
CREATED:20230618T222512Z
LAST-MODIFIED:20230618T223205Z
UID:10346-1688148000-1688166000@offthechartsgames.com
SUMMARY:Friday Game Night
DESCRIPTION:Friday Night Game Night 6 pm until 11 pm.   Of course\, our tables are also open daily during store hours.  Select from our games library or bring your own games. \nCome play\, it’s free and you’re sure to have a good time.
URL:https://offthechartsgames.com/event/friday-game-night-2/
CATEGORIES:Game Night
ATTACH;FMTTYPE=image/jpeg:https://offthechartsgames.com/wp-content/uploads/2023/06/Demo-Games_12.16.2017_b.jpg
END:VEVENT
BEGIN:VEVENT
DTSTART;TZID=America/Denver:20230623T180000
DTEND;TZID=America/Denver:20230623T230000
DTSTAMP:20260423T093934
CREATED:20230618T222017Z
LAST-MODIFIED:20230618T223225Z
UID:10342-1687543200-1687561200@offthechartsgames.com
SUMMARY:Friday Game Night
DESCRIPTION:Friday Night Game Night is back Fridays 6 pm until 11 pm.   Of course\, our tables are also open daily during store hours.  Select from our games library or bring your own games. \nCome play\, it’s free and you’re sure to have a good time.
URL:https://offthechartsgames.com/event/friday-game-night/
CATEGORIES:Game Night
ATTACH;FMTTYPE=image/jpeg:https://offthechartsgames.com/wp-content/uploads/2023/06/Demo-Games_12.16.2017_b.jpg
END:VEVENT
BEGIN:VEVENT
DTSTART;TZID=America/Denver:20230616T180000
DTEND;TZID=America/Denver:20230616T230000
DTSTAMP:20260423T093934
CREATED:20230618T224259Z
LAST-MODIFIED:20230618T225134Z
UID:10364-1686938400-1686956400@offthechartsgames.com
SUMMARY:Friday Game Night
DESCRIPTION:Friday Night Game Night is back! Fridays 6 pm until 11 pm.   Of course\, our tables are also open daily during store hours.  Select from our games library or bring your own games. \nCome play\, it’s free and you’re sure to have a good time.
URL:https://offthechartsgames.com/event/friday-game-night-10/
CATEGORIES:Game Night
ATTACH;FMTTYPE=image/jpeg:https://offthechartsgames.com/wp-content/uploads/2023/06/Demo-Games_12.16.2017_b.jpg
END:VEVENT
END:VCALENDAR