BEGIN:VCALENDAR
VERSION:2.0
PRODID:-//Off The Charts Games - ECPv6.15.20//NONSGML v1.0//EN
CALSCALE:GREGORIAN
METHOD:PUBLISH
X-WR-CALNAME:Off The Charts Games
X-ORIGINAL-URL:https://offthechartsgames.com
X-WR-CALDESC:Events for Off The Charts Games
REFRESH-INTERVAL;VALUE=DURATION:PT1H
X-Robots-Tag:noindex
X-PUBLISHED-TTL:PT1H
BEGIN:VTIMEZONE
TZID:UTC
BEGIN:STANDARD
TZOFFSETFROM:+0000
TZOFFSETTO:+0000
TZNAME:UTC
DTSTART:20190101T000000
END:STANDARD
END:VTIMEZONE
BEGIN:VEVENT
DTSTART;VALUE=DATE:20210101
DTEND;VALUE=DATE:20210102
DTSTAMP:20260423T163219
CREATED:20201225T022032Z
LAST-MODIFIED:20201225T022032Z
UID:8503-1609459200-1609545599@offthechartsgames.com
SUMMARY:Game Night: Home Version: Jan 1st
DESCRIPTION:More details to come
URL:https://offthechartsgames.com/event/game-night-home-version-jan-1st/
LOCATION:At Home
CATEGORIES:Game Night
END:VEVENT
BEGIN:VEVENT
DTSTART;TZID=UTC:20200129T180000
DTEND;TZID=UTC:20200129T220000
DTSTAMP:20260423T163219
CREATED:20201224T120545Z
LAST-MODIFIED:20201224T120545Z
UID:8467-1580320800-1580335200@offthechartsgames.com
SUMMARY:Game Night : Dice City\, Bora Bora
DESCRIPTION:GAME NIGHT FREE FUN GAMEPLAY\nOur Game Library has a wide variety of games available for play while you are here. Also\, you can bring in your own games to play. \nTonight’s Staff Suggested Games To Try:\n– Dice City\n– Bora Bora\nNo experience is necessary! We are happy to teach you the rules and get you started.   
URL:https://offthechartsgames.com/event/game-night-dice-city-bora-bora/
LOCATION:Off The Charts Games\, 30 NW 2nd St\, Gresham\, OR\, 97030\, United States
CATEGORIES:Game Night
ORGANIZER;CN="Off The Charts Games":MAILTO:info@offthechartsgames.com
END:VEVENT
END:VCALENDAR