BEGIN:VCALENDAR
VERSION:2.0
PRODID:-//Off The Charts Games - ECPv6.15.20//NONSGML v1.0//EN
CALSCALE:GREGORIAN
METHOD:PUBLISH
X-WR-CALNAME:Off The Charts Games
X-ORIGINAL-URL:https://offthechartsgames.com
X-WR-CALDESC:Events for Off The Charts Games
REFRESH-INTERVAL;VALUE=DURATION:PT1H
X-Robots-Tag:noindex
X-PUBLISHED-TTL:PT1H
BEGIN:VTIMEZONE
TZID:America/Los_Angeles
BEGIN:DAYLIGHT
TZOFFSETFROM:-0800
TZOFFSETTO:-0700
TZNAME:PDT
DTSTART:20250309T100000
END:DAYLIGHT
BEGIN:STANDARD
TZOFFSETFROM:-0700
TZOFFSETTO:-0800
TZNAME:PST
DTSTART:20251102T090000
END:STANDARD
BEGIN:DAYLIGHT
TZOFFSETFROM:-0800
TZOFFSETTO:-0700
TZNAME:PDT
DTSTART:20260308T100000
END:DAYLIGHT
BEGIN:STANDARD
TZOFFSETFROM:-0700
TZOFFSETTO:-0800
TZNAME:PST
DTSTART:20261101T090000
END:STANDARD
BEGIN:DAYLIGHT
TZOFFSETFROM:-0800
TZOFFSETTO:-0700
TZNAME:PDT
DTSTART:20270314T100000
END:DAYLIGHT
BEGIN:STANDARD
TZOFFSETFROM:-0700
TZOFFSETTO:-0800
TZNAME:PST
DTSTART:20271107T090000
END:STANDARD
END:VTIMEZONE
BEGIN:VEVENT
DTSTART;TZID=America/Los_Angeles:20260303T170000
DTEND;TZID=America/Los_Angeles:20260303T190000
DTSTAMP:20260423T015529
CREATED:20250704T205439Z
LAST-MODIFIED:20260304T015219Z
UID:10960-1772557200-1772564400@offthechartsgames.com
SUMMARY:Learn to play Tiny Town
DESCRIPTION:In Tiny Towns\, your town is represented by a 4×4 grid on which you will place resource cubes in specific layouts to construct buildings. Each building scores victory points (VPs) in a unique way. When no player can place any more resources or construct any buildings\, the game ends\, and any squares without a building are worth -1 VP. The player with the most VP wins!
URL:https://offthechartsgames.com/event/learn-to-play-horrified/
END:VEVENT
BEGIN:VEVENT
DTSTART;TZID=America/Los_Angeles:20260304T180000
DTEND;TZID=America/Los_Angeles:20260304T220000
DTSTAMP:20260423T015529
CREATED:20260210T210953Z
LAST-MODIFIED:20260304T020338Z
UID:11052-1772647200-1772661600@offthechartsgames.com
SUMMARY:Wednesday Game Night
DESCRIPTION:Please join us for a open play game night from 6-10PM
URL:https://offthechartsgames.com/event/wednesday-game-night/
END:VEVENT
BEGIN:VEVENT
DTSTART;TZID=America/Los_Angeles:20260317T170000
DTEND;TZID=America/Los_Angeles:20260317T190000
DTSTAMP:20260423T015529
CREATED:20250821T180327Z
LAST-MODIFIED:20260304T015751Z
UID:10990-1773766800-1773774000@offthechartsgames.com
SUMMARY:Learn to Play-Wyrmspan
DESCRIPTION:During a game of Wyrmspan\, you will build a sanctuary for dragons of all shapes and sizes. Your sanctuary begins with 3 excavated spaces—the leftmost space in your Crimson Cavern\, your Golden Grotto\, and your Amethyst Abyss. Over the course of the game\, you will excavate additional spaces in your sanctuary and entice dragons to live there\, chaining together powerful abilities and earning the favor of the Dragon Guild.
URL:https://offthechartsgames.com/event/learn-to-play-northwest/
END:VEVENT
BEGIN:VEVENT
DTSTART;TZID=America/Los_Angeles:20260321T170000
DTEND;TZID=America/Los_Angeles:20260321T190000
DTSTAMP:20260423T015529
CREATED:20250821T180417Z
LAST-MODIFIED:20260304T015830Z
UID:10992-1774112400-1774119600@offthechartsgames.com
SUMMARY:Learn to Play Wyrmspan
DESCRIPTION:During a game of Wyrmspan\, you will build a sanctuary for dragons of all shapes and sizes. Your sanctuary begins with 3 excavated spaces—the leftmost space in your Crimson Cavern\, your Golden Grotto\, and your Amethyst Abyss. Over the course of the game\, you will excavate additional spaces in your sanctuary and entice dragons to live there\, chaining together powerful abilities and earning the favor of the Dragon Guild.
URL:https://offthechartsgames.com/event/learn-to-play-northwest-2/
END:VEVENT
BEGIN:VEVENT
DTSTART;TZID=America/Los_Angeles:20260324T170000
DTEND;TZID=America/Los_Angeles:20260324T190000
DTSTAMP:20260423T015529
CREATED:20250821T175721Z
LAST-MODIFIED:20260304T020035Z
UID:10986-1774371600-1774378800@offthechartsgames.com
SUMMARY:Learn to Play-Summer Camp
DESCRIPTION:Summer Camp differs each playing as the game includes seven different merit badge decks along with the base deck: adventure\, arts & crafts\, cooking\, friendship\, games\, outdoors\, and water sports. Each game uses three merit badge decks that can be mixed and matched for unique gameplay scenarios. \nTo win\, players must earn the most camp experience points\, points that are gained by claiming merit badges\, advancing your pawns along the merit paths\, and buying cards. Devise your strategy\, build the best card combinations to outplay your opponents\, and rule the summer as the ultimate camper!
URL:https://offthechartsgames.com/event/learn-to-play-root/
END:VEVENT
BEGIN:VEVENT
DTSTART;TZID=America/Los_Angeles:20260326T130000
DTEND;TZID=America/Los_Angeles:20260326T170000
DTSTAMP:20260423T015529
CREATED:20260317T204536Z
LAST-MODIFIED:20260317T204536Z
UID:11075-1774530000-1774544400@offthechartsgames.com
SUMMARY:D&D 1 shot campaign
DESCRIPTION:Special one shot just in time for spring break. This adventure will be from 1-5pm. Depending on events it could run over on time. This is for players with experience. if you have not played before please check out our learn to play for D&D on Monday the 23rd. Open to all ages as long as they have experience with playing.
URL:https://offthechartsgames.com/event/dd-1-shot-campaign/
END:VEVENT
BEGIN:VEVENT
DTSTART;TZID=America/Los_Angeles:20260328T170000
DTEND;TZID=America/Los_Angeles:20260328T190000
DTSTAMP:20260423T015529
CREATED:20250820T181359Z
LAST-MODIFIED:20260304T020118Z
UID:10983-1774717200-1774724400@offthechartsgames.com
SUMMARY:Learn to Play Summer Camp
DESCRIPTION:Summer Camp differs each playing as the game includes seven different merit badge decks along with the base deck: adventure\, arts & crafts\, cooking\, friendship\, games\, outdoors\, and water sports. Each game uses three merit badge decks that can be mixed and matched for unique gameplay scenarios. \nTo win\, players must earn the most camp experience points\, points that are gained by claiming merit badges\, advancing your pawns along the merit paths\, and buying cards. Devise your strategy\, build the best card combinations to outplay your opponents\, and rule the summer as the ultimate camper!
URL:https://offthechartsgames.com/event/learn-to-play-azul-2/
END:VEVENT
BEGIN:VEVENT
DTSTART;TZID=America/Los_Angeles:20260331T170000
DTEND;TZID=America/Los_Angeles:20260331T190000
DTSTAMP:20260423T015529
CREATED:20250820T181301Z
LAST-MODIFIED:20260304T020215Z
UID:10981-1774976400-1774983600@offthechartsgames.com
SUMMARY:Learn to Play - Tacta
DESCRIPTION:It’s all connected! In this sneakily strategic card game\, players flip\, twist\, and turn their cards to align and cover their opponents’ shapes with matching squares\, triangles\, and rectangles. With an ever-growing board\, up to 8 colors light up game night with TACTA. Analyze\, strategize\, and optimize because in TACTA\, every card counts.
URL:https://offthechartsgames.com/event/learn-to-play-azul/
END:VEVENT
END:VCALENDAR